BEGIN:VCALENDAR
VERSION:2.0
PRODID:-//gardenterrace.us//NONSGML kigkonsult.se iCalcreator 2.30.10//
CALSCALE:GREGORIAN
METHOD:PUBLISH
UID:0e724132-c0c5-41f5-8187-3e2dfbb73897
X-WR-CALDESC:
X-WR-RELCALID:a7d089be0646063cce1c406395c08357
X-WR-TIMEZONE:America/Los_Angeles
BEGIN:VTIMEZONE
TZID:America/Los_Angeles
BEGIN:STANDARD
TZNAME:PST
DTSTART:20231105T020000
TZOFFSETFROM:-0700
TZOFFSETTO:-0800
RDATE:20241103T020000
END:STANDARD
BEGIN:DAYLIGHT
TZNAME:PDT
DTSTART:20240310T020000
TZOFFSETFROM:-0800
TZOFFSETTO:-0700
RDATE:20250309T020000
END:DAYLIGHT
END:VTIMEZONE
BEGIN:VEVENT
UID:b654b8f6-6ccb-4ebf-9c06-23287da576e5
DTSTAMP:20260425T120308Z
DESCRIPTION:
DTSTART;TZID=America/Los_Angeles:20240418T130000
DTEND;TZID=America/Los_Angeles:20240418T140000
LOCATION:500 N Emerson Ave\, Wenatchee\, WA 98801 US
SUMMARY:Scripture Discussion
END:VEVENT
END:VCALENDAR
