BEGIN:VCALENDAR
VERSION:2.0
PRODID:-//gardenterrace.us//NONSGML kigkonsult.se iCalcreator 2.30.10//
CALSCALE:GREGORIAN
METHOD:PUBLISH
UID:d3d8f778-6de9-4852-91ab-4c0af57eac9d
X-WR-CALDESC:
X-WR-RELCALID:2d0bb9511e70a30d452bb9fa10922b04
X-WR-TIMEZONE:America/Los_Angeles
BEGIN:VTIMEZONE
TZID:America/Los_Angeles
BEGIN:STANDARD
TZNAME:PST
DTSTART:20231105T020000
TZOFFSETFROM:-0700
TZOFFSETTO:-0800
RDATE:20241103T020000
END:STANDARD
BEGIN:DAYLIGHT
TZNAME:PDT
DTSTART:20240310T020000
TZOFFSETFROM:-0800
TZOFFSETTO:-0700
RDATE:20250309T020000
END:DAYLIGHT
END:VTIMEZONE
BEGIN:VEVENT
UID:3aa73ecc-ba4b-4a7f-bb34-afe141c08b9d
DTSTAMP:20260425T120339Z
DESCRIPTION:
DTSTART;TZID=America/Los_Angeles:20240418T110000
DTEND;TZID=America/Los_Angeles:20240418T120000
LOCATION:500 N Emerson Ave\, Wenatchee\, WA 98801 US
SUMMARY:Resident Exercise Class
END:VEVENT
END:VCALENDAR
