BEGIN:VCALENDAR
VERSION:2.0
PRODID:-//gardenterrace.us//NONSGML kigkonsult.se iCalcreator 2.30.10//
CALSCALE:GREGORIAN
METHOD:PUBLISH
UID:6064a814-f46e-4a64-8502-6000663dd7bc
X-WR-CALDESC:
X-WR-RELCALID:acd254c02f7135ef62e397eb393f8f34
X-WR-TIMEZONE:America/Los_Angeles
BEGIN:VTIMEZONE
TZID:America/Los_Angeles
BEGIN:STANDARD
TZNAME:PST
DTSTART:20231105T020000
TZOFFSETFROM:-0700
TZOFFSETTO:-0800
RDATE:20241103T020000
END:STANDARD
BEGIN:DAYLIGHT
TZNAME:PDT
DTSTART:20240310T020000
TZOFFSETFROM:-0800
TZOFFSETTO:-0700
RDATE:20250309T020000
END:DAYLIGHT
END:VTIMEZONE
BEGIN:VEVENT
UID:c96dcf4e-f963-45f4-8e78-8fb161f48f70
DTSTAMP:20260425T120539Z
DESCRIPTION:
DTSTART;TZID=America/Los_Angeles:20240418T090000
DTEND;TZID=America/Los_Angeles:20240418T110000
LOCATION:500 N Emerson Ave\, Wenatchee\, WA 98801 US
SUMMARY:Food Delivery
END:VEVENT
END:VCALENDAR
