BEGIN:VCALENDAR
VERSION:2.0
PRODID:-//gardenterrace.us//NONSGML kigkonsult.se iCalcreator 2.30.10//
CALSCALE:GREGORIAN
METHOD:PUBLISH
UID:fd7a75b2-e7c2-4351-ae80-3331ac7bc1f2
X-WR-CALDESC:
X-WR-RELCALID:b5012612e1eeb12412afaa497caadfca
X-WR-TIMEZONE:America/Los_Angeles
BEGIN:VTIMEZONE
TZID:America/Los_Angeles
BEGIN:STANDARD
TZNAME:PST
DTSTART:20231105T020000
TZOFFSETFROM:-0700
TZOFFSETTO:-0800
RDATE:20241103T020000
END:STANDARD
BEGIN:DAYLIGHT
TZNAME:PDT
DTSTART:20240310T020000
TZOFFSETFROM:-0800
TZOFFSETTO:-0700
RDATE:20250309T020000
END:DAYLIGHT
END:VTIMEZONE
BEGIN:VEVENT
UID:c4116b6e-6d05-4bb7-8c91-6ce3deeac5c9
DTSTAMP:20260425T120512Z
DESCRIPTION:
DTSTART;TZID=America/Los_Angeles:20240417T100000
DTEND;TZID=America/Los_Angeles:20240417T110000
LOCATION:500 N Emerson Ave\, Wenatchee\, WA 98801 US
SUMMARY:Birthday Breakfast
END:VEVENT
END:VCALENDAR
