BEGIN:VCALENDAR
VERSION:2.0
PRODID:-//gardenterrace.us//NONSGML kigkonsult.se iCalcreator 2.30.10//
CALSCALE:GREGORIAN
METHOD:PUBLISH
UID:9a6c93ca-f21e-4dd9-8197-d43bed6b05de
X-WR-CALDESC:
X-WR-RELCALID:fea688f34af0e7441525b9cb301d9fc8
X-WR-TIMEZONE:America/Los_Angeles
BEGIN:VTIMEZONE
TZID:America/Los_Angeles
BEGIN:STANDARD
TZNAME:PST
DTSTART:20231105T020000
TZOFFSETFROM:-0700
TZOFFSETTO:-0800
RDATE:20241103T020000
END:STANDARD
BEGIN:DAYLIGHT
TZNAME:PDT
DTSTART:20240310T020000
TZOFFSETFROM:-0800
TZOFFSETTO:-0700
RDATE:20250309T020000
END:DAYLIGHT
END:VTIMEZONE
BEGIN:VEVENT
UID:540d7b67-a112-4bad-83d6-babf511e30dc
DTSTAMP:20260425T120423Z
DESCRIPTION:
DTSTART;TZID=America/Los_Angeles:20240416T110000
DTEND;TZID=America/Los_Angeles:20240416T120000
LOCATION:500 N Emerson Ave\, Wenatchee\, WA 98801 US
SUMMARY:Craft Day
END:VEVENT
END:VCALENDAR
