BEGIN:VCALENDAR
VERSION:2.0
PRODID:-//gardenterrace.us//NONSGML kigkonsult.se iCalcreator 2.30.10//
CALSCALE:GREGORIAN
METHOD:PUBLISH
UID:d90e3c52-9d40-4d81-87f4-f144b42ebe05
X-WR-CALDESC:
X-WR-RELCALID:41582890def18b40a834df8fab8e94ed
X-WR-TIMEZONE:America/Los_Angeles
BEGIN:VTIMEZONE
TZID:America/Los_Angeles
BEGIN:STANDARD
TZNAME:PST
DTSTART:20231105T020000
TZOFFSETFROM:-0700
TZOFFSETTO:-0800
RDATE:20241103T020000
END:STANDARD
BEGIN:DAYLIGHT
TZNAME:PDT
DTSTART:20240310T020000
TZOFFSETFROM:-0800
TZOFFSETTO:-0700
RDATE:20250309T020000
END:DAYLIGHT
END:VTIMEZONE
BEGIN:VEVENT
UID:6ce5820a-c61d-4420-a0ec-4cd9e3fc71a3
DTSTAMP:20260425T120339Z
DESCRIPTION:
DTSTART;TZID=America/Los_Angeles:20240415T130000
DTEND;TZID=America/Los_Angeles:20240415T140000
LOCATION:500 N Emerson Ave\, Wenatchee\, WA 98801 US
SUMMARY:Sign Language Class
END:VEVENT
END:VCALENDAR
