BEGIN:VCALENDAR
VERSION:2.0
PRODID:-//gardenterrace.us//NONSGML kigkonsult.se iCalcreator 2.30.10//
CALSCALE:GREGORIAN
METHOD:PUBLISH
UID:11e9ffc5-2834-48c8-b9ae-124e10988eb8
X-WR-CALDESC:
X-WR-RELCALID:816dcec1a728d3e59cf1fb8c38c213df
X-WR-TIMEZONE:America/Los_Angeles
BEGIN:VTIMEZONE
TZID:America/Los_Angeles
BEGIN:STANDARD
TZNAME:PST
DTSTART:20231105T020000
TZOFFSETFROM:-0700
TZOFFSETTO:-0800
RDATE:20241103T020000
END:STANDARD
BEGIN:DAYLIGHT
TZNAME:PDT
DTSTART:20240310T020000
TZOFFSETFROM:-0800
TZOFFSETTO:-0700
RDATE:20250309T020000
END:DAYLIGHT
END:VTIMEZONE
BEGIN:VEVENT
UID:971dac21-fa37-4d6f-82e0-17cb0fb49761
DTSTAMP:20260425T120425Z
DESCRIPTION:
DTSTART;TZID=America/Los_Angeles:20240415T110000
DTEND;TZID=America/Los_Angeles:20240415T120000
LOCATION:500 N Emerson Ave\, Wenatchee\, WA 98801 US
SUMMARY:Resident Exercise Class
END:VEVENT
END:VCALENDAR
