BEGIN:VCALENDAR
VERSION:2.0
PRODID:-//gardenterrace.us//NONSGML kigkonsult.se iCalcreator 2.30.10//
CALSCALE:GREGORIAN
METHOD:PUBLISH
UID:51ac3fc4-ff3e-499d-a541-25bb70dbdf1b
X-WR-CALDESC:
X-WR-RELCALID:5a6f20b680c62cf7f1fc90d23a2af6c4
X-WR-TIMEZONE:America/Los_Angeles
BEGIN:VTIMEZONE
TZID:America/Los_Angeles
BEGIN:STANDARD
TZNAME:PST
DTSTART:20231105T020000
TZOFFSETFROM:-0700
TZOFFSETTO:-0800
RDATE:20241103T020000
END:STANDARD
BEGIN:DAYLIGHT
TZNAME:PDT
DTSTART:20240310T020000
TZOFFSETFROM:-0800
TZOFFSETTO:-0700
RDATE:20250309T020000
END:DAYLIGHT
END:VTIMEZONE
BEGIN:VEVENT
UID:51870bbe-4fd3-4901-95ea-8b0e0a5afdfe
DTSTAMP:20260425T120710Z
DESCRIPTION:
DTSTART;TZID=America/Los_Angeles:20240412T130000
DTEND;TZID=America/Los_Angeles:20240412T140000
LOCATION:500 N Emerson Ave\, Wenatchee\, WA 98801 US
SUMMARY:A Matter of Balance
END:VEVENT
END:VCALENDAR
