BEGIN:VCALENDAR
VERSION:2.0
PRODID:-//gardenterrace.us//NONSGML kigkonsult.se iCalcreator 2.30.10//
CALSCALE:GREGORIAN
METHOD:PUBLISH
UID:9bc8cdee-a603-4494-9834-e900ee6c28a3
X-WR-CALDESC:
X-WR-RELCALID:9801da3077f4c0884eda09787480382e
X-WR-TIMEZONE:America/Los_Angeles
BEGIN:VTIMEZONE
TZID:America/Los_Angeles
BEGIN:STANDARD
TZNAME:PST
DTSTART:20231105T020000
TZOFFSETFROM:-0700
TZOFFSETTO:-0800
RDATE:20241103T020000
END:STANDARD
BEGIN:DAYLIGHT
TZNAME:PDT
DTSTART:20240310T020000
TZOFFSETFROM:-0800
TZOFFSETTO:-0700
RDATE:20250309T020000
END:DAYLIGHT
END:VTIMEZONE
BEGIN:VEVENT
UID:d950f683-f3a9-4512-8dd5-547df7046401
DTSTAMP:20260425T120424Z
DESCRIPTION:
DTSTART;TZID=America/Los_Angeles:20240411T110000
DTEND;TZID=America/Los_Angeles:20240411T120000
LOCATION:500 N Emerson Ave.\, Wenatchee\, WA 98801 US
SUMMARY:Resident Exercise Class
END:VEVENT
END:VCALENDAR
