BEGIN:VCALENDAR
VERSION:2.0
PRODID:-//gardenterrace.us//NONSGML kigkonsult.se iCalcreator 2.30.10//
CALSCALE:GREGORIAN
METHOD:PUBLISH
UID:5086e402-120c-4cd2-b8f3-9a522db3f939
X-WR-CALDESC:
X-WR-RELCALID:5f5262c35e3ffb3409da84d970541f79
X-WR-TIMEZONE:America/Los_Angeles
BEGIN:VTIMEZONE
TZID:America/Los_Angeles
BEGIN:STANDARD
TZNAME:PST
DTSTART:20231105T020000
TZOFFSETFROM:-0700
TZOFFSETTO:-0800
RDATE:20241103T020000
END:STANDARD
BEGIN:DAYLIGHT
TZNAME:PDT
DTSTART:20240310T020000
TZOFFSETFROM:-0800
TZOFFSETTO:-0700
RDATE:20250309T020000
END:DAYLIGHT
END:VTIMEZONE
BEGIN:VEVENT
UID:e7fe795e-d8d3-4731-b910-a86cef64755c
DTSTAMP:20260425T120554Z
DESCRIPTION:
DTSTART;TZID=America/Los_Angeles:20240411T183000
DTEND;TZID=America/Los_Angeles:20240411T193000
LOCATION:500 N Emerson Ave.\, Wenatchee\, WA 98801 US
SUMMARY:Family Feud
END:VEVENT
END:VCALENDAR
