BEGIN:VCALENDAR
VERSION:2.0
PRODID:-//gardenterrace.us//NONSGML kigkonsult.se iCalcreator 2.30.10//
CALSCALE:GREGORIAN
METHOD:PUBLISH
UID:7c8e0abd-074d-4a40-81bf-eea89ffbee64
X-WR-CALDESC:
X-WR-RELCALID:66a38510694dc657b941ecfd7dbd7e7b
X-WR-TIMEZONE:America/Los_Angeles
BEGIN:VTIMEZONE
TZID:America/Los_Angeles
BEGIN:STANDARD
TZNAME:PST
DTSTART:20231105T020000
TZOFFSETFROM:-0700
TZOFFSETTO:-0800
RDATE:20241103T020000
END:STANDARD
BEGIN:DAYLIGHT
TZNAME:PDT
DTSTART:20240310T020000
TZOFFSETFROM:-0800
TZOFFSETTO:-0700
RDATE:20250309T020000
END:DAYLIGHT
END:VTIMEZONE
BEGIN:VEVENT
UID:10681abd-3ef0-4fec-9579-aaafccce8c3c
DTSTAMP:20260425T120538Z
DESCRIPTION:
DTSTART;TZID=America/Los_Angeles:20240409T110000
DTEND;TZID=America/Los_Angeles:20240409T120000
LOCATION:500 N Emerson Ave.\, Wenatchee\, WA 98801 US
SUMMARY:Trivia with Tina
END:VEVENT
END:VCALENDAR
