BEGIN:VCALENDAR
VERSION:2.0
PRODID:-//gardenterrace.us//NONSGML kigkonsult.se iCalcreator 2.30.10//
CALSCALE:GREGORIAN
METHOD:PUBLISH
UID:be651c89-3250-493b-9b67-21d870957444
X-WR-CALDESC:
X-WR-RELCALID:5a31f8c2f5f083db4cf267f0eda944f6
X-WR-TIMEZONE:America/Los_Angeles
BEGIN:VTIMEZONE
TZID:America/Los_Angeles
BEGIN:STANDARD
TZNAME:PST
DTSTART:20231105T020000
TZOFFSETFROM:-0700
TZOFFSETTO:-0800
RDATE:20241103T020000
END:STANDARD
BEGIN:DAYLIGHT
TZNAME:PDT
DTSTART:20240310T020000
TZOFFSETFROM:-0800
TZOFFSETTO:-0700
RDATE:20250309T020000
END:DAYLIGHT
END:VTIMEZONE
BEGIN:VEVENT
UID:4431a3cb-c2ec-4e10-acd3-afa27624611d
DTSTAMP:20260425T120536Z
DESCRIPTION:
DTSTART;TZID=America/Los_Angeles:20240403T183000
DTEND;TZID=America/Los_Angeles:20240403T203000
LOCATION:500 N Emerson Ave.\, Wenatchee\, WA 98801 US
SUMMARY:Movie Night
END:VEVENT
END:VCALENDAR
