BEGIN:VCALENDAR
VERSION:2.0
PRODID:-//gardenterrace.us//NONSGML kigkonsult.se iCalcreator 2.30.10//
CALSCALE:GREGORIAN
METHOD:PUBLISH
UID:5c1142f1-e1f4-4a7b-ba24-8f5121eab346
X-WR-CALDESC:
X-WR-RELCALID:5dbffc03806a7330b5b5d0f8240e22b0
X-WR-TIMEZONE:America/Los_Angeles
BEGIN:VTIMEZONE
TZID:America/Los_Angeles
BEGIN:STANDARD
TZNAME:PST
DTSTART:20231105T020000
TZOFFSETFROM:-0700
TZOFFSETTO:-0800
RDATE:20241103T020000
END:STANDARD
BEGIN:DAYLIGHT
TZNAME:PDT
DTSTART:20240310T020000
TZOFFSETFROM:-0800
TZOFFSETTO:-0700
RDATE:20250309T020000
END:DAYLIGHT
END:VTIMEZONE
BEGIN:VEVENT
UID:034552d1-41c7-41ce-b1cc-79623433836f
DTSTAMP:20260425T120338Z
DESCRIPTION:
DTSTART;TZID=America/Los_Angeles:20240401T130000
DTEND;TZID=America/Los_Angeles:20240401T140000
LOCATION:500 N Emerson Ave.\, Wenatchee\, WA 98801 US
SUMMARY:Sign Language Class
END:VEVENT
END:VCALENDAR
