BEGIN:VCALENDAR
VERSION:2.0
PRODID:-//gardenterrace.us//NONSGML kigkonsult.se iCalcreator 2.30.10//
CALSCALE:GREGORIAN
METHOD:PUBLISH
UID:06be1cab-0197-4c4c-a203-079fb82b0d09
X-WR-CALDESC:
X-WR-RELCALID:42f8cfbe31476bb6463c8180cb403eef
X-WR-TIMEZONE:America/Los_Angeles
BEGIN:VTIMEZONE
TZID:America/Los_Angeles
BEGIN:STANDARD
TZNAME:PST
DTSTART:20231105T020000
TZOFFSETFROM:-0700
TZOFFSETTO:-0800
RDATE:20241103T020000
END:STANDARD
BEGIN:DAYLIGHT
TZNAME:PDT
DTSTART:20230312T020000
TZOFFSETFROM:-0800
TZOFFSETTO:-0700
RDATE:20240310T020000
RDATE:20250309T020000
END:DAYLIGHT
END:VTIMEZONE
BEGIN:VEVENT
UID:68a8d039-7537-4dc7-bef4-d8c26cf9c9e8
DTSTAMP:20260425T102316Z
DESCRIPTION:
DTSTART;TZID=America/Los_Angeles:20240311T080000
DTEND;TZID=America/Los_Angeles:20240531T160000
LOCATION:500 N Emerson Ave.\, Wenatchee\, WA 98801 US
SUMMARY:West Elevator Project
END:VEVENT
END:VCALENDAR
