BEGIN:VCALENDAR
VERSION:2.0
PRODID:-//gardenterrace.us//NONSGML kigkonsult.se iCalcreator 2.30.10//
CALSCALE:GREGORIAN
METHOD:PUBLISH
UID:ae6fe753-474a-406a-855a-b3e048e97b4b
X-WR-CALDESC:October 31st 5 to 7 pm\nCome all you little princes/princesses
 \, goblins\, ghosts\, pirates\, witches\, and your parents to play games\,
  eat candy\, hot dogs\, chips and spooky punch. Costume contest for the ki
 ds and adults alike. Trick or treat with the residents!\nDon't be left out
  of the fun ~ Games include: Bobbing for apples\, cake walk\, pin the stem
  on the pumpkin\, and other fun games. \nThe evening will be Free\, safe a
 nd lots of fun!
X-WR-RELCALID:ecfcf6b5031c30fa26f904447389cbd1
X-WR-TIMEZONE:America/Los_Angeles
BEGIN:VTIMEZONE
TZID:America/Los_Angeles
BEGIN:STANDARD
TZNAME:PST
DTSTART:20211107T020000
TZOFFSETFROM:-0700
TZOFFSETTO:-0800
RDATE:20221106T020000
RDATE:20231105T020000
END:STANDARD
BEGIN:DAYLIGHT
TZNAME:PDT
DTSTART:20220313T020000
TZOFFSETFROM:-0800
TZOFFSETTO:-0700
RDATE:20230312T020000
RDATE:20240310T020000
END:DAYLIGHT
END:VTIMEZONE
BEGIN:VEVENT
UID:831ce2d8-b061-4698-89b5-62d8a3a4f1cb
DTSTAMP:20260424T200358Z
DESCRIPTION:October 31st 5 to 7 pm\nCome all you little princes/princesses\
 , goblins\, ghosts\, pirates\, witches\, and your parents to play games\, 
 eat candy\, hot dogs\, chips and spooky punch. Costume contest for the kid
 s and adults alike. Trick or treat with the residents!\nDon't be left out 
 of the fun ~ Games include: Bobbing for apples\, cake walk\, pin the stem 
 on the pumpkin\, and other fun games. \nThe evening will be Free\, safe an
 d lots of fun!
DTSTART;TZID=America/Los_Angeles:20221031T173000
DTEND;TZID=America/Los_Angeles:20221031T190000
LOCATION:500 N Emerson Ave\, Wenatchee\, WA 98801 US
SUMMARY:Halloween Party
END:VEVENT
END:VCALENDAR
